BEGIN:VCALENDAR
VERSION:2.0
PRODID:-//ChamberMaster//Event Calendar 2.0//EN
METHOD:PUBLISH
X-PUBLISHED-TTL:P3D
REFRESH-INTERVAL:P3D
CALSCALE:GREGORIAN
BEGIN:VEVENT
DTSTART:20181006T140000Z
DTEND:20181006T160000Z
X-MICROSOFT-CDO-ALLDAYEVENT:FALSE
SUMMARY:March on Main - Historic Downtown Gaffney
DESCRIPTION:March starts at The Gaffney Visitors Center and ends at Michael Gaffney Log Cabin
X-ALT-DESC;FMTTYPE=text/html:March starts at The Gaffney Visitors Center and ends at Michael Gaffney Log Cabin
LOCATION:
UID:e.1277.4503
SEQUENCE:3
DTSTAMP:20260425T011024Z
URL:http://services.cherokeechamber.org/events/details/march-on-main-historic-downtown-gaffney-4503
END:VEVENT

END:VCALENDAR
