BEGIN:VCALENDAR
VERSION:2.0
PRODID:-//ChamberMaster//Event Calendar 2.0//EN
METHOD:PUBLISH
X-PUBLISHED-TTL:P3D
REFRESH-INTERVAL:P3D
CALSCALE:GREGORIAN
BEGIN:VEVENT
DTSTART:20181018T213000Z
DTEND:20181018T233000Z
X-MICROSOFT-CDO-ALLDAYEVENT:FALSE
SUMMARY:Mammograms and Manicures Event
DESCRIPTION:Grab your girlfriends and join Mary Black Health System Gaffney for Mammograms and ManiCURES\, where you can enjoy a little pampering as well as breast health education. You can also get your annual screening mammogram with no physician order required. Registration is required.
X-ALT-DESC;FMTTYPE=text/html:Grab your girlfriends and join Mary Black Health System Gaffney for Mammograms and ManiCURES\, where you can enjoy a little pampering as well as breast health education. You can also get your annual screening mammogram with no physician order required. Registration is required.
LOCATION:Mary Black Health System - Gaffney\, 1530 N. Limestone St.\, Gaffney\, SC
UID:e.1277.4499
SEQUENCE:3
DTSTAMP:20260425T011026Z
URL:http://services.cherokeechamber.org/events/details/mammograms-and-manicures-event-4499
END:VEVENT

END:VCALENDAR
