BEGIN:VCALENDAR
VERSION:2.0
PRODID:-//ChamberMaster//Event Calendar 2.0//EN
METHOD:PUBLISH
X-PUBLISHED-TTL:P3D
REFRESH-INTERVAL:P3D
CALSCALE:GREGORIAN
BEGIN:VEVENT
DTSTART:20171031T210000Z
DTEND:20171101T000000Z
X-MICROSOFT-CDO-ALLDAYEVENT:FALSE
SUMMARY:Malloween Trunk or Treat
DESCRIPTION:Malloween Trunk or Treat
X-ALT-DESC;FMTTYPE=text/html:Malloween Trunk or Treat
LOCATION:Gaffney Outlet Marketplace 1 Factory Shops Blvd. Gaffney
UID:e.1277.3053
SEQUENCE:3
DTSTAMP:20260425T173145Z
URL:http://services.cherokeechamber.org/events/details/malloween-trunk-or-treat-3053
END:VEVENT

END:VCALENDAR
