BEGIN:VCALENDAR
VERSION:2.0
PRODID:-//ChamberMaster//Event Calendar 2.0//EN
METHOD:PUBLISH
X-PUBLISHED-TTL:P3D
REFRESH-INTERVAL:P3D
CALSCALE:GREGORIAN
BEGIN:VEVENT
DTSTART:20181025T213000Z
DTEND:20181025T233000Z
X-MICROSOFT-CDO-ALLDAYEVENT:FALSE
SUMMARY:Magnolias of Gaffney's Fall Festival
DESCRIPTION:Fall fun\, trunk or treat\, costumes\, food\, music\, games\, hay rides and more!
X-ALT-DESC;FMTTYPE=text/html:Fall fun\, trunk or treat\, costumes\, food\, music\, games\, hay rides and more!
LOCATION:Magnolias of Gaffney\, 101 Park Court\, Gaffney\, SC 29341
UID:e.1277.4509
SEQUENCE:3
DTSTAMP:20260425T011507Z
URL:http://services.cherokeechamber.org/events/details/magnolias-of-gaffney-s-fall-festival-4509
END:VEVENT

END:VCALENDAR
