BEGIN:VCALENDAR
VERSION:2.0
PRODID:-//ChamberMaster//Event Calendar 2.0//EN
METHOD:PUBLISH
X-PUBLISHED-TTL:P3D
REFRESH-INTERVAL:P3D
CALSCALE:GREGORIAN
BEGIN:VEVENT
DTSTART:20180918T140000Z
DTEND:20180918T160000Z
X-MICROSOFT-CDO-ALLDAYEVENT:FALSE
SUMMARY:Magnolias of Gaffney - Living to 100
DESCRIPTION:Learn About the Six Essentials of Health\n\nHow you feel during your day to day life is a direct correlation of your health - mentally\, physically\, emotionally and spiritually. Join Dr. Scott Baker from Upper Cervical Chiropractic of Spartanburg to see how making six simple adjustments can completely change your lifestyle.\n\nRSVP to Janelle at 864-206-0006
X-ALT-DESC;FMTTYPE=text/html:Learn About the Six Essentials of Health<br />\nHow you feel during your day to day life is a direct correlation of your health - mentally\, physically\, emotionally and spiritually. Join Dr. Scott Baker from Upper Cervical Chiropractic of Spartanburg to see how making six simple adjustments can completely change your lifestyle.<br />\nRSVP to Janelle at 864-206-0006
LOCATION:Magnolias of Gaffney 101 Park Court Gaffney\, SC 29341
UID:e.1277.4350
SEQUENCE:3
DTSTAMP:20260425T024957Z
URL:http://services.cherokeechamber.org/events/details/magnolias-of-gaffney-living-to-100-4350
END:VEVENT

END:VCALENDAR
