BEGIN:VCALENDAR
VERSION:2.0
PRODID:-//ChamberMaster//Event Calendar 2.0//EN
METHOD:PUBLISH
X-PUBLISHED-TTL:P3D
REFRESH-INTERVAL:P3D
CALSCALE:GREGORIAN
BEGIN:VEVENT
DTSTART:20171208T230000Z
DTEND:20171209T020000Z
X-MICROSOFT-CDO-ALLDAYEVENT:FALSE
SUMMARY:Light Up The Night 2017 Christmas Parade and Christmas on Limestone
DESCRIPTION:Light Up The Night\n\n 2017 Christmas Parade and Christmas on Limestone
X-ALT-DESC;FMTTYPE=text/html:Light Up The Night<br />\n&#8203\;2017 Christmas Parade and Christmas on Limestone
LOCATION:Downtown Gaffney Limestone Street
UID:e.1277.3060
SEQUENCE:3
DTSTAMP:20260425T152158Z
URL:http://services.cherokeechamber.org/events/details/light-up-the-night-2017-christmas-parade-and-christmas-on-limestone-3060
END:VEVENT

END:VCALENDAR
