BEGIN:VCALENDAR
VERSION:2.0
PRODID:-//ChamberMaster//Event Calendar 2.0//EN
METHOD:PUBLISH
X-PUBLISHED-TTL:P3D
REFRESH-INTERVAL:P3D
CALSCALE:GREGORIAN
BEGIN:VEVENT
DTSTART:20170710T160000Z
DTEND:20170710T173000Z
X-MICROSOFT-CDO-ALLDAYEVENT:FALSE
SUMMARY:Legislative Luncheon
DESCRIPTION:Enjoy lunch while listening to our Guest Speakers Senator Harvey Peeler\, Representative Dennis Moss\, Representative Steve Moss\, and Upstate Chamber Coalition Vice President of Business Advocacy Jason Zacher.
X-ALT-DESC;FMTTYPE=text/html:<div>Enjoy&nbsp\;lunch while listening to our Guest Speakers Senator Harvey Peeler\, Representative Dennis Moss\, Representative Steve Moss\, and Upstate Chamber Coalition Vice President of Business Advocacy Jason Zacher.</div>\n
LOCATION:Limestone College 1115 College Dr. Stephenson Private Dining Room
UID:e.1277.3033
SEQUENCE:3
DTSTAMP:20260425T211653Z
URL:http://services.cherokeechamber.org/events/details/legislative-luncheon-3033
END:VEVENT

END:VCALENDAR
