BEGIN:VCALENDAR
VERSION:2.0
PRODID:-//ChamberMaster//Event Calendar 2.0//EN
METHOD:PUBLISH
X-PUBLISHED-TTL:P3D
REFRESH-INTERVAL:P3D
CALSCALE:GREGORIAN
BEGIN:VEVENT
DTSTART:20170513T160000Z
DTEND:20170513T190000Z
X-MICROSOFT-CDO-ALLDAYEVENT:FALSE
SUMMARY:KNOW (2) Miniature Golf Tournament Guidelines
DESCRIPTION:KNOW (2)  Miniature Golf Tournament
X-ALT-DESC;FMTTYPE=text/html:KNOW (2)&nbsp\; Miniature Golf Tournament
LOCATION:The Big E 1100 Factory Shops Blvd Gaffney SC 29341
UID:e.1277.3018
SEQUENCE:3
DTSTAMP:20260426T000346Z
URL:http://services.cherokeechamber.org/events/details/know-2-miniature-golf-tournament-guidelines-3018
END:VEVENT

END:VCALENDAR
