BEGIN:VCALENDAR
VERSION:2.0
PRODID:-//ChamberMaster//Event Calendar 2.0//EN
METHOD:PUBLISH
X-PUBLISHED-TTL:P3D
REFRESH-INTERVAL:P3D
CALSCALE:GREGORIAN
BEGIN:VEVENT
DTSTART:20181117T160000Z
DTEND:20181117T190000Z
X-MICROSOFT-CDO-ALLDAYEVENT:FALSE
SUMMARY:Jingle and Mingle at Hairspray Salon
DESCRIPTION:
X-ALT-DESC;FMTTYPE=text/html:
LOCATION:
UID:e.1277.4512
SEQUENCE:3
DTSTAMP:20260424T235056Z
URL:http://services.cherokeechamber.org/events/details/jingle-and-mingle-at-hairspray-salon-4512
END:VEVENT

END:VCALENDAR
