BEGIN:VCALENDAR
VERSION:2.0
PRODID:-//ChamberMaster//Event Calendar 2.0//EN
METHOD:PUBLISH
X-PUBLISHED-TTL:P3D
REFRESH-INTERVAL:P3D
CALSCALE:GREGORIAN
BEGIN:VEVENT
DTSTART;VALUE=DATE:20190419
DTEND;VALUE=DATE:20190421
TRANSP:TRANSPARENT
X-MICROSOFT-CDO-ALLDAYEVENT:TRUE
SUMMARY:Iron City Festival Blacksburg\,SC
DESCRIPTION:April 19th. Bring a chair..... Free musical entertainment. Free motorcycle stunt show. Food and drinks available for purchase from vendors. April 20th. Bring a chair..... Free musical entertainment. Jack Roper and the Weatherman Band will perform at 1:00 pm. Free kids inflatable area. Free wrestling. Free motorcycle stunt show. Free magic show. Free trackless train ride. Craft\, art\, and general merchandise vendors. Sorry\, not pets except service dogs. No golf carts or other motorized vehicles.
X-ALT-DESC;FMTTYPE=text/html:April 19th. Bring a chair..... Free musical entertainment. Free motorcycle stunt show. Food and drinks available for purchase from vendors. April 20th. Bring a chair..... Free musical entertainment. Jack Roper and the Weatherman Band will perform at 1:00 pm. Free kids inflatable area. Free wrestling. Free motorcycle stunt show. Free magic show. Free trackless train ride. Craft\, art\, and general merchandise vendors. Sorry\, not pets except service dogs. No golf carts or other motorized vehicles.
LOCATION:Downtown Blacksburg..... From Fire Department to Chester Street.
UID:e.1277.4555
SEQUENCE:3
DTSTAMP:20260422T111509Z
URL:http://services.cherokeechamber.org/events/details/iron-city-festival-blacksburg-sc-4555
END:VEVENT

END:VCALENDAR
