BEGIN:VCALENDAR
VERSION:2.0
PRODID:-//ChamberMaster//Event Calendar 2.0//EN
METHOD:PUBLISH
X-PUBLISHED-TTL:P3D
REFRESH-INTERVAL:P3D
CALSCALE:GREGORIAN
BEGIN:VEVENT
DTSTART:20190316T133000Z
DTEND:20190317T003000Z
X-MICROSOFT-CDO-ALLDAYEVENT:FALSE
SUMMARY:Irish Fest
DESCRIPTION:Irish Fest\n\nRaces\, vendors\, music\, fun for children
X-ALT-DESC;FMTTYPE=text/html:Irish Fest<br />\nRaces\, vendors\, music\, fun for children&nbsp\;&nbsp\;&nbsp\;&nbsp\;
LOCATION:Railroad Avenue Park\, 102 Railroad Avenue\, Gaffney\, SC
UID:e.1277.4573
SEQUENCE:3
DTSTAMP:20260424T183513Z
URL:http://services.cherokeechamber.org/events/details/irish-fest-4573
END:VEVENT

END:VCALENDAR
