BEGIN:VCALENDAR
VERSION:2.0
PRODID:-//ChamberMaster//Event Calendar 2.0//EN
METHOD:PUBLISH
X-PUBLISHED-TTL:P3D
REFRESH-INTERVAL:P3D
CALSCALE:GREGORIAN
BEGIN:VEVENT
DTSTART:20170930T160000Z
DTEND:20170930T180000Z
X-MICROSOFT-CDO-ALLDAYEVENT:FALSE
SUMMARY:House of Pizza Re- Grand Opening Ribbon Cutting
DESCRIPTION:House of Pizza Brand New Renovations with a Grand Reopening and Ribbon Cutting
X-ALT-DESC;FMTTYPE=text/html:House of Pizza Brand New Renovations with a Grand Reopening and Ribbon Cutting
LOCATION:1640 -B-E Fredrick Street Gaffney\, SC 29340
UID:e.1277.3044
SEQUENCE:3
DTSTAMP:20260425T190233Z
URL:http://services.cherokeechamber.org/events/details/house-of-pizza-re-grand-opening-ribbon-cutting-3044
END:VEVENT

END:VCALENDAR
