BEGIN:VCALENDAR
VERSION:2.0
PRODID:-//ChamberMaster//Event Calendar 2.0//EN
METHOD:PUBLISH
X-PUBLISHED-TTL:P3D
REFRESH-INTERVAL:P3D
CALSCALE:GREGORIAN
BEGIN:VEVENT
DTSTART:20190326T140000Z
DTEND:20190326T180000Z
X-MICROSOFT-CDO-ALLDAYEVENT:FALSE
SUMMARY:Hire Dynamics JOB FAIR
DESCRIPTION:Hire Dynamics Job Fair\n\nat\n\nLippert - Plant 74\n\n10:00AM - 2:00PM
X-ALT-DESC;FMTTYPE=text/html:Hire Dynamics Job Fair<br />\nat<br />\nLippert - Plant 74<br />\n10:00AM - 2:00PM
LOCATION:121 Pan-American Drive Gaffney\, SC 29341
UID:e.1277.4575
SEQUENCE:3
DTSTAMP:20260424T184115Z
URL:http://services.cherokeechamber.org/events/details/hire-dynamics-job-fair-4575
END:VEVENT

END:VCALENDAR
