BEGIN:VCALENDAR
VERSION:2.0
PRODID:-//ChamberMaster//Event Calendar 2.0//EN
METHOD:PUBLISH
X-PUBLISHED-TTL:P3D
REFRESH-INTERVAL:P3D
CALSCALE:GREGORIAN
BEGIN:VEVENT
DTSTART:20190220T150000Z
DTEND:20190220T190000Z
X-MICROSOFT-CDO-ALLDAYEVENT:FALSE
SUMMARY:Hire Dynamics Job Fair
DESCRIPTION:Job Fair
X-ALT-DESC;FMTTYPE=text/html:Job Fair
LOCATION:Ace Bakery 131 Corporate Dr.\, Gaffney\, SC
UID:e.1277.4550
SEQUENCE:3
DTSTAMP:20260424T194044Z
URL:http://services.cherokeechamber.org/events/details/hire-dynamics-job-fair-4550
END:VEVENT

END:VCALENDAR
