BEGIN:VCALENDAR
VERSION:2.0
PRODID:-//ChamberMaster//Event Calendar 2.0//EN
METHOD:PUBLISH
X-PUBLISHED-TTL:P3D
REFRESH-INTERVAL:P3D
CALSCALE:GREGORIAN
BEGIN:VEVENT
DTSTART:20190304T213000Z
DTEND:20190304T223000Z
X-MICROSOFT-CDO-ALLDAYEVENT:FALSE
SUMMARY:Guest speaker Marcus Bradley at ATWA
DESCRIPTION:
X-ALT-DESC;FMTTYPE=text/html:
LOCATION:
UID:e.1277.4562
SEQUENCE:3
DTSTAMP:20260424T184129Z
URL:http://services.cherokeechamber.org/events/details/guest-speaker-marcus-bradley-at-atwa-4562
END:VEVENT

END:VCALENDAR
