BEGIN:VCALENDAR
VERSION:2.0
PRODID:-//ChamberMaster//Event Calendar 2.0//EN
METHOD:PUBLISH
X-PUBLISHED-TTL:P3D
REFRESH-INTERVAL:P3D
CALSCALE:GREGORIAN
BEGIN:VEVENT
DTSTART:20171104T143000Z
DTEND:20171104T160000Z
X-MICROSOFT-CDO-ALLDAYEVENT:FALSE
SUMMARY:Grieving Support Panel
DESCRIPTION:Grieving Support Panel
X-ALT-DESC;FMTTYPE=text/html:Grieving Support Panel
LOCATION:Cherokee County Public Library 300 E. Rutledge Ave
UID:e.1277.3058
SEQUENCE:3
DTSTAMP:20260425T162549Z
URL:http://services.cherokeechamber.org/events/details/grieving-support-panel-3058
END:VEVENT

END:VCALENDAR
