BEGIN:VCALENDAR
VERSION:2.0
PRODID:-//ChamberMaster//Event Calendar 2.0//EN
METHOD:PUBLISH
X-PUBLISHED-TTL:P3D
REFRESH-INTERVAL:P3D
CALSCALE:GREGORIAN
BEGIN:VEVENT
DTSTART:20181201T160000Z
DTEND:20181201T180000Z
X-MICROSOFT-CDO-ALLDAYEVENT:FALSE
SUMMARY:Goody Boxes Give-Away for Seniors and Community
DESCRIPTION:Goody boxes will be given away containing blankets\, sheets\, pampers\, tissue\, paper towels and many other items! There will be larger items that won't fit into the goody boxes that are available also. The senior citizens will be served first beginning at 11:00 AM  - Noon and at Noon optn to the community and the senior citizens
X-ALT-DESC;FMTTYPE=text/html:Goody boxes will be given away containing blankets\, sheets\, pampers\, tissue\, paper towels and many other items! There will be larger items that won&#39\;t fit into the goody boxes that are available also. The senior citizens will be served first beginning at 11:00 AM&nbsp\; - Noon and at Noon optn to the community and the senior citizens
LOCATION:Academic Technology and Wellness Academy 122 E. Robinson Street\, Gaffney\, 29340
UID:e.1277.4527
SEQUENCE:3
DTSTAMP:20260424T223505Z
URL:http://services.cherokeechamber.org/events/details/goody-boxes-give-away-for-seniors-and-community-4527
END:VEVENT

END:VCALENDAR
