BEGIN:VCALENDAR
VERSION:2.0
PRODID:-//ChamberMaster//Event Calendar 2.0//EN
METHOD:PUBLISH
X-PUBLISHED-TTL:P3D
REFRESH-INTERVAL:P3D
CALSCALE:GREGORIAN
BEGIN:VEVENT
DTSTART:20180123T120000Z
DTEND:20180123T170000Z
X-MICROSOFT-CDO-ALLDAYEVENT:FALSE
SUMMARY:Gaffney Station Farmers Market
DESCRIPTION:
X-ALT-DESC;FMTTYPE=text/html:
LOCATION:
UID:e.1277.2209
SEQUENCE:3
DTSTAMP:20260425T140808Z
URL:http://services.cherokeechamber.org/events/details/gaffney-station-farmers-market-01-23-2018-2209
END:VEVENT

END:VCALENDAR
