BEGIN:VCALENDAR
VERSION:2.0
PRODID:-//ChamberMaster//Event Calendar 2.0//EN
METHOD:PUBLISH
X-PUBLISHED-TTL:P3D
REFRESH-INTERVAL:P3D
CALSCALE:GREGORIAN
BEGIN:VEVENT
DTSTART:20180930T190000Z
DTEND:20180930T210000Z
X-MICROSOFT-CDO-ALLDAYEVENT:FALSE
SUMMARY:Gaffney Little Theatre presents "Miss Nelson is Missing!"
DESCRIPTION:
X-ALT-DESC;FMTTYPE=text/html:
LOCATION:
UID:e.1277.4494
SEQUENCE:3
DTSTAMP:20260425T024606Z
URL:http://services.cherokeechamber.org/events/details/gaffney-little-theatre-presents-miss-nelson-is-missing-4494
END:VEVENT

END:VCALENDAR
