BEGIN:VCALENDAR
VERSION:2.0
PRODID:-//ChamberMaster//Event Calendar 2.0//EN
METHOD:PUBLISH
X-PUBLISHED-TTL:P3D
REFRESH-INTERVAL:P3D
CALSCALE:GREGORIAN
BEGIN:VEVENT
DTSTART:20170306T230000Z
DTEND:20170307T000000Z
X-MICROSOFT-CDO-ALLDAYEVENT:FALSE
SUMMARY:Gaffney City Council Meeting
DESCRIPTION:Gaffney City Council Meeting
X-ALT-DESC;FMTTYPE=text/html:Gaffney City Council Meeting
LOCATION:Gaffney City Hall - 1st floor
UID:e.1277.240
SEQUENCE:3
DTSTAMP:20260426T023354Z
URL:http://services.cherokeechamber.org/events/details/gaffney-city-council-meeting-03-06-2017-240
END:VEVENT

END:VCALENDAR
