BEGIN:VCALENDAR
VERSION:2.0
PRODID:-//ChamberMaster//Event Calendar 2.0//EN
METHOD:PUBLISH
X-PUBLISHED-TTL:P3D
REFRESH-INTERVAL:P3D
CALSCALE:GREGORIAN
BEGIN:VEVENT
DTSTART:20180305T230000Z
DTEND:20180306T000000Z
X-MICROSOFT-CDO-ALLDAYEVENT:FALSE
SUMMARY:Gaffney City Council Meeting
DESCRIPTION:Gaffney City Council Meeting
X-ALT-DESC;FMTTYPE=text/html:Gaffney City Council Meeting
LOCATION:Gaffney City Hall - 1st floor
UID:e.1277.252
SEQUENCE:3
DTSTAMP:20260425T112349Z
URL:http://services.cherokeechamber.org/events/details/gaffney-city-council-meeting-03-05-2018-252
END:VEVENT

END:VCALENDAR
