BEGIN:VCALENDAR
VERSION:2.0
PRODID:-//ChamberMaster//Event Calendar 2.0//EN
METHOD:PUBLISH
X-PUBLISHED-TTL:P3D
REFRESH-INTERVAL:P3D
CALSCALE:GREGORIAN
BEGIN:VEVENT
DTSTART:20190107T230000Z
DTEND:20190108T000000Z
X-MICROSOFT-CDO-ALLDAYEVENT:FALSE
SUMMARY:Gaffney City Council Meeting
DESCRIPTION:Gaffney City Council Meeting
X-ALT-DESC;FMTTYPE=text/html:Gaffney City Council Meeting
LOCATION:Gaffney City Hall - 1st floor
UID:e.1277.262
SEQUENCE:3
DTSTAMP:20260424T210820Z
URL:http://services.cherokeechamber.org/events/details/gaffney-city-council-meeting-01-07-2019-262
END:VEVENT

END:VCALENDAR
