BEGIN:VCALENDAR
VERSION:2.0
PRODID:-//ChamberMaster//Event Calendar 2.0//EN
METHOD:PUBLISH
X-PUBLISHED-TTL:P3D
REFRESH-INTERVAL:P3D
CALSCALE:GREGORIAN
BEGIN:VEVENT
DTSTART:20190313T210000Z
DTEND:20190314T000000Z
X-MICROSOFT-CDO-ALLDAYEVENT:FALSE
SUMMARY:Fundraiser for Academic Technology Youth
DESCRIPTION:Come out and support the YOUTH of ATWA! Tickets available at Academic Technology and Wellness Academy\, any staff member or parents.
X-ALT-DESC;FMTTYPE=text/html:Come out and support the YOUTH of ATWA! Tickets available at Academic Technology and Wellness Academy\, any staff member or parents.
LOCATION:Applebee's - Gaffney
UID:e.1277.4569
SEQUENCE:3
DTSTAMP:20260424T183542Z
URL:http://services.cherokeechamber.org/events/details/fundraiser-for-academic-technology-youth-4569
END:VEVENT

END:VCALENDAR
