BEGIN:VCALENDAR
VERSION:2.0
PRODID:-//ChamberMaster//Event Calendar 2.0//EN
METHOD:PUBLISH
X-PUBLISHED-TTL:P3D
REFRESH-INTERVAL:P3D
CALSCALE:GREGORIAN
BEGIN:VEVENT
DTSTART:20170602T150000Z
DTEND:20170602T150000Z
X-MICROSOFT-CDO-ALLDAYEVENT:FALSE
SUMMARY:Frances Clary Memorial Gold Tournament
DESCRIPTION:Golf Tournament to help support the mission of Cherokee County Literacy Association
X-ALT-DESC;FMTTYPE=text/html:Golf Tournament to help support the mission of Cherokee County Literacy Association
LOCATION:Cherokee National Golf Club 442 Cherokee National Hwy Gaffney SC 29341
UID:e.1277.3022
SEQUENCE:3
DTSTAMP:20260425T225031Z
URL:http://services.cherokeechamber.org/events/details/frances-clary-memorial-gold-tournament-3022
END:VEVENT

END:VCALENDAR
