BEGIN:VCALENDAR
VERSION:2.0
PRODID:-//ChamberMaster//Event Calendar 2.0//EN
METHOD:PUBLISH
X-PUBLISHED-TTL:P3D
REFRESH-INTERVAL:P3D
CALSCALE:GREGORIAN
BEGIN:VEVENT
DTSTART:20180217T133000Z
DTEND:20180217T150000Z
X-MICROSOFT-CDO-ALLDAYEVENT:FALSE
SUMMARY:First Steps "Family Fun"Love 5K Run/Walk
DESCRIPTION:Cherokee County First Steps\n\n"Family First" Love 5K Run/Walk
X-ALT-DESC;FMTTYPE=text/html:Cherokee County First Steps<br />\n&quot\;Family First&quot\; Love 5K Run/Walk
LOCATION:Limestone College Timken Center 1115 College Dr.
UID:e.1277.3073
SEQUENCE:3
DTSTAMP:20260425T124259Z
URL:http://services.cherokeechamber.org/events/details/first-steps-family-fun-love-5k-run-walk-3073
END:VEVENT

END:VCALENDAR
