BEGIN:VCALENDAR
VERSION:2.0
PRODID:-//ChamberMaster//Event Calendar 2.0//EN
METHOD:PUBLISH
X-PUBLISHED-TTL:P3D
REFRESH-INTERVAL:P3D
CALSCALE:GREGORIAN
BEGIN:VEVENT
DTSTART:20171031T200000Z
DTEND:20171031T220000Z
X-MICROSOFT-CDO-ALLDAYEVENT:FALSE
SUMMARY:Family Tricks & Treats
DESCRIPTION:Family Tricks & Treats\n\nHalloween at the Y
X-ALT-DESC;FMTTYPE=text/html:Family Tricks &amp\; Treats<br />\nHalloween at the Y
LOCATION:Cherokee County Family YMCA 390 Whelchel Road Gaffney\, SC 29341
UID:e.1277.3052
SEQUENCE:3
DTSTAMP:20260425T173151Z
URL:http://services.cherokeechamber.org/events/details/family-tricks-treats-3052
END:VEVENT

END:VCALENDAR
