BEGIN:VCALENDAR
VERSION:2.0
PRODID:-//ChamberMaster//Event Calendar 2.0//EN
METHOD:PUBLISH
X-PUBLISHED-TTL:P3D
REFRESH-INTERVAL:P3D
CALSCALE:GREGORIAN
BEGIN:VEVENT
DTSTART:20171028T140000Z
DTEND:20171028T180000Z
X-MICROSOFT-CDO-ALLDAYEVENT:FALSE
SUMMARY:Fall Festival and Vendor Fair Peachtree Centre
DESCRIPTION:Peachtree Centre Fall Festival and Vendor Fair
X-ALT-DESC;FMTTYPE=text/html:Peachtree Centre Fall Festival and Vendor Fair
LOCATION:1434 N. Limestone Street
UID:e.1277.3048
SEQUENCE:3
DTSTAMP:20260425T173336Z
URL:http://services.cherokeechamber.org/events/details/fall-festival-and-vendor-fair-peachtree-centre-3048
END:VEVENT

END:VCALENDAR
