BEGIN:VCALENDAR
VERSION:2.0
PRODID:-//ChamberMaster//Event Calendar 2.0//EN
METHOD:PUBLISH
X-PUBLISHED-TTL:P3D
REFRESH-INTERVAL:P3D
CALSCALE:GREGORIAN
BEGIN:VEVENT
DTSTART:20190322T160000Z
DTEND:20190322T180000Z
X-MICROSOFT-CDO-ALLDAYEVENT:FALSE
SUMMARY:Elevate Social Work Luncheon
DESCRIPTION:Elevate Social Work in Cherokee County Luncheon
X-ALT-DESC;FMTTYPE=text/html:Elevate Social Work in Cherokee County Luncheon
LOCATION:1434 N. Limestone St.\, Gaffney
UID:e.1277.4551
SEQUENCE:3
DTSTAMP:20260424T184112Z
URL:http://services.cherokeechamber.org/events/details/elevate-social-work-luncheon-4551
END:VEVENT

END:VCALENDAR
