BEGIN:VCALENDAR
VERSION:2.0
PRODID:-//ChamberMaster//Event Calendar 2.0//EN
METHOD:PUBLISH
X-PUBLISHED-TTL:P3D
REFRESH-INTERVAL:P3D
CALSCALE:GREGORIAN
BEGIN:VEVENT
DTSTART:20180313T150000Z
DTEND:20180313T160000Z
X-MICROSOFT-CDO-ALLDAYEVENT:FALSE
SUMMARY:Downtown Ribbon Cutting Event
DESCRIPTION:Downtown Ribbon Cutting
X-ALT-DESC;FMTTYPE=text/html:Downtown Ribbon Cutting
LOCATION:Sweet Life Creamery\, Bailey's\, Boston Annie's\, Holmes & Watson Escape Room Begins at 605 South Limestone Street
UID:e.1277.3080
SEQUENCE:3
DTSTAMP:20260425T112245Z
URL:http://services.cherokeechamber.org/events/details/downtown-ribbon-cutting-event-3080
END:VEVENT

END:VCALENDAR
