BEGIN:VCALENDAR
VERSION:2.0
PRODID:-//ChamberMaster//Event Calendar 2.0//EN
METHOD:PUBLISH
X-PUBLISHED-TTL:P3D
REFRESH-INTERVAL:P3D
CALSCALE:GREGORIAN
BEGIN:VEVENT
DTSTART:20170810T210000Z
DTEND:20170810T230000Z
X-MICROSOFT-CDO-ALLDAYEVENT:FALSE
SUMMARY:Disney Night with LuLaRoe
DESCRIPTION:Disney Night with LuLaRue
X-ALT-DESC;FMTTYPE=text/html:Disney Night with LuLaRue
LOCATION:Wishes Family Travel 1252 Overbrook Dr. Suite 11 Gaffney
UID:e.1277.3036
SEQUENCE:3
DTSTAMP:20260425T200608Z
URL:http://services.cherokeechamber.org/events/details/disney-night-with-lularoe-3036
END:VEVENT

END:VCALENDAR
