BEGIN:VCALENDAR
VERSION:2.0
PRODID:-//ChamberMaster//Event Calendar 2.0//EN
METHOD:PUBLISH
X-PUBLISHED-TTL:P3D
REFRESH-INTERVAL:P3D
CALSCALE:GREGORIAN
BEGIN:VEVENT
DTSTART:20170211T233000Z
DTEND:20170211T233000Z
X-MICROSOFT-CDO-ALLDAYEVENT:FALSE
SUMMARY:Dinner & Dancing
DESCRIPTION:No Reservation? Tired of the Crowd?\n\nThe Cherokee County History and Arts Museum invites you to Dinner & Dancing with your Valentine.
X-ALT-DESC;FMTTYPE=text/html:No Reservation? Tired of the Crowd?<br />\nThe Cherokee County History and Arts Museum invites you to Dinner &amp\; Dancing with your Valentine.
LOCATION:Cherokee County History & Arts Museum 301 College Drive Gaffney\, SC 29340
UID:e.1277.3009
SEQUENCE:3
DTSTAMP:20260426T034929Z
URL:http://services.cherokeechamber.org/events/details/dinner-dancing-3009
END:VEVENT

END:VCALENDAR
