BEGIN:VCALENDAR
VERSION:2.0
PRODID:-//ChamberMaster//Event Calendar 2.0//EN
METHOD:PUBLISH
X-PUBLISHED-TTL:P3D
REFRESH-INTERVAL:P3D
CALSCALE:GREGORIAN
BEGIN:VEVENT
DTSTART:20181110T150000Z
DTEND:20181110T160000Z
X-MICROSOFT-CDO-ALLDAYEVENT:FALSE
SUMMARY:Digital Connections: Your Global Footprint
DESCRIPTION:Please join\n\nAcademic Technology \n\nand Wellness Academy\n\n  in a discussion and seminar with\n\n         Dr. Cynthia Sutherland\, CEO\n\nof TriSec Solutions\, LLC from Washington\, DC.\n\n \n\nLet's explore the content that future generations \n\nneed in order to make the best online decisions.\n\nIf you are interested in\n\nyour child attending this class\, please contact\n\nYolanda 864-490-5530
X-ALT-DESC;FMTTYPE=text/html:<span style="font-size:14px\;">Please join<br />\n<strong>Academic Technology </strong><br />\n<strong>and Wellness Academy</strong><br />\n&nbsp\; in a discussion and seminar with<br />\n&nbsp\;&nbsp\;&nbsp\;&nbsp\;&nbsp\;&nbsp\;&nbsp\;&nbsp\; Dr. Cynthia Sutherland\, CEO<br />\nof TriSec Solutions\, LLC from Washington\, DC.<br />\n&nbsp\;<br />\n<em><span style="font-family:baskerville old face\,serif\;">Let&rsquo\;s explore the content that future generations </span></em><br />\n<em><span style="font-family:baskerville old face\,serif\;">need in order to make the best online decisions.</span></em><br />\nIf you are interested in<br />\nyour child attending this class\, please contact<br />\n<strong>Yolanda 864-490-5530 </strong></span><br />\n&nbsp\;
LOCATION:Academic Technology & Wellness Academy 122 E. Robinson St.\, Gaffney\, SC
UID:e.1277.4520
SEQUENCE:3
DTSTAMP:20260424T234944Z
URL:http://services.cherokeechamber.org/events/details/digital-connections-your-global-footprint-4520
END:VEVENT

END:VCALENDAR
