BEGIN:VCALENDAR
VERSION:2.0
PRODID:-//ChamberMaster//Event Calendar 2.0//EN
METHOD:PUBLISH
X-PUBLISHED-TTL:P3D
REFRESH-INTERVAL:P3D
CALSCALE:GREGORIAN
BEGIN:VEVENT
DTSTART:20190218T200000Z
DTEND:20190218T220000Z
X-MICROSOFT-CDO-ALLDAYEVENT:FALSE
SUMMARY:Debt & Financial Recovery
DESCRIPTION:
X-ALT-DESC;FMTTYPE=text/html:
LOCATION:
UID:e.1277.4541
SEQUENCE:3
DTSTAMP:20260424T194135Z
URL:http://services.cherokeechamber.org/events/details/debt-financial-recovery-4541
END:VEVENT

END:VCALENDAR
