BEGIN:VCALENDAR
VERSION:2.0
PRODID:-//ChamberMaster//Event Calendar 2.0//EN
METHOD:PUBLISH
X-PUBLISHED-TTL:P3D
REFRESH-INTERVAL:P3D
CALSCALE:GREGORIAN
BEGIN:VEVENT
DTSTART:20190304T220000Z
DTEND:20190305T000000Z
X-MICROSOFT-CDO-ALLDAYEVENT:FALSE
SUMMARY:County Council Meeting
DESCRIPTION:County Council Meeting
X-ALT-DESC;FMTTYPE=text/html:County Council Meeting
LOCATION:The County Administration Building
UID:e.1277.116
SEQUENCE:3
DTSTAMP:20260424T184313Z
URL:http://services.cherokeechamber.org/events/details/county-council-meeting-03-04-2019-116
END:VEVENT

END:VCALENDAR
