BEGIN:VCALENDAR
VERSION:2.0
PRODID:-//ChamberMaster//Event Calendar 2.0//EN
METHOD:PUBLISH
X-PUBLISHED-TTL:P3D
REFRESH-INTERVAL:P3D
CALSCALE:GREGORIAN
BEGIN:VEVENT
DTSTART:20180216T140000Z
DTEND:20180216T210000Z
X-MICROSOFT-CDO-ALLDAYEVENT:FALSE
SUMMARY:Community Wellness Event
DESCRIPTION:Community Wellness Event
X-ALT-DESC;FMTTYPE=text/html:Community Wellness Event
LOCATION:Senior Center of Cherokee County\, Inc. 499 W. Rutledge Ave. Gaffney
UID:e.1277.3070
SEQUENCE:3
DTSTAMP:20260425T124950Z
URL:http://services.cherokeechamber.org/events/details/community-wellness-event-3070
END:VEVENT

END:VCALENDAR
