BEGIN:VCALENDAR
VERSION:2.0
PRODID:-//ChamberMaster//Event Calendar 2.0//EN
METHOD:PUBLISH
X-PUBLISHED-TTL:P3D
REFRESH-INTERVAL:P3D
CALSCALE:GREGORIAN
BEGIN:VEVENT
DTSTART:20171019T150000Z
DTEND:20171019T170000Z
X-MICROSOFT-CDO-ALLDAYEVENT:FALSE
SUMMARY:City Electric Supply Renovation/Re Opening Ribbon Cutting
DESCRIPTION:City Electric Supply Renovation/ Re Opening Ribbon Cutting
X-ALT-DESC;FMTTYPE=text/html:City Electric Supply Renovation/ Re Opening Ribbon Cutting
LOCATION:144 Willis Plaza Gaffney\, SC 29340
UID:e.1277.3046
SEQUENCE:3
DTSTAMP:20260425T190126Z
URL:http://services.cherokeechamber.org/events/details/city-electric-supply-renovation-re-opening-ribbon-cutting-3046
END:VEVENT

END:VCALENDAR
