BEGIN:VCALENDAR
VERSION:2.0
PRODID:-//ChamberMaster//Event Calendar 2.0//EN
METHOD:PUBLISH
X-PUBLISHED-TTL:P3D
REFRESH-INTERVAL:P3D
CALSCALE:GREGORIAN
BEGIN:VEVENT
DTSTART:20171203T213000Z
DTEND:20171204T003000Z
X-MICROSOFT-CDO-ALLDAYEVENT:FALSE
SUMMARY:Christmas Tour of Homes
DESCRIPTION:Gaffney Garden Club Hosting Christmas Tour of Homes
X-ALT-DESC;FMTTYPE=text/html:&nbsp\;Gaffney Garden Club Hosting Christmas Tour of Homes
LOCATION:Homes located on College Drive and Petty Street Contact Linda Ramage for more information 206-0286
UID:e.1277.3042
SEQUENCE:3
DTSTAMP:20260425T151621Z
URL:http://services.cherokeechamber.org/events/details/christmas-tour-of-homes-3042
END:VEVENT

END:VCALENDAR
