BEGIN:VCALENDAR
VERSION:2.0
PRODID:-//ChamberMaster//Event Calendar 2.0//EN
METHOD:PUBLISH
X-PUBLISHED-TTL:P3D
REFRESH-INTERVAL:P3D
CALSCALE:GREGORIAN
BEGIN:VEVENT
DTSTART:20181206T163000Z
DTEND:20181206T183000Z
X-MICROSOFT-CDO-ALLDAYEVENT:FALSE
SUMMARY:Christmas at the Chamber Drop In
DESCRIPTION:Christmas at the Chamber Annual Drop-In\n\nIf capable\, please bring one new\, unwrapped toy for a Cherokee County child.
X-ALT-DESC;FMTTYPE=text/html:Christmas at the Chamber Annual Drop-In<br />\nIf capable\, please bring one new\, unwrapped toy for a Cherokee County child.
LOCATION:
UID:e.1277.4528
SEQUENCE:3
DTSTAMP:20260424T223341Z
URL:http://services.cherokeechamber.org/events/details/christmas-at-the-chamber-drop-in-4528
END:VEVENT

END:VCALENDAR
