BEGIN:VCALENDAR
VERSION:2.0
PRODID:-//ChamberMaster//Event Calendar 2.0//EN
METHOD:PUBLISH
X-PUBLISHED-TTL:P3D
REFRESH-INTERVAL:P3D
CALSCALE:GREGORIAN
BEGIN:VEVENT
DTSTART:20171027T210000Z
DTEND:20171027T230000Z
X-MICROSOFT-CDO-ALLDAYEVENT:FALSE
SUMMARY:Chicken Stew Supper
DESCRIPTION:Blacksburg High School AVID Program\n\nChicken Stew Supper
X-ALT-DESC;FMTTYPE=text/html:Blacksburg High School AVID Program<br />\nChicken Stew Supper
LOCATION:Blacksburg High School Cafeteria 201 W. Ramseur Blacksburg
UID:e.1277.3049
SEQUENCE:3
DTSTAMP:20260425T172858Z
URL:http://services.cherokeechamber.org/events/details/chicken-stew-supper-3049
END:VEVENT

END:VCALENDAR
