BEGIN:VCALENDAR
VERSION:2.0
PRODID:-//ChamberMaster//Event Calendar 2.0//EN
METHOD:PUBLISH
X-PUBLISHED-TTL:P3D
REFRESH-INTERVAL:P3D
CALSCALE:GREGORIAN
BEGIN:VEVENT
DTSTART:20180320T143000Z
DTEND:20180320T233000Z
X-MICROSOFT-CDO-ALLDAYEVENT:FALSE
SUMMARY:Chick-fil-A Meals on Wheels Emergency Food Drive
DESCRIPTION:Chick-fil-A Gaffney Only: Bring in a bag of at least 5 canned goods and get a free Chick-fil-A Chicken Sandwich \n\nLimit one sandwich per person
X-ALT-DESC;FMTTYPE=text/html:Chick-fil-A&nbsp\;Gaffney Only: Bring in a bag of at least 5 canned goods and get a free Chick-fil-A&nbsp\;Chicken Sandwich&nbsp\;<br />\nLimit one sandwich per person&nbsp\;
LOCATION:Chick-fil-A Gaffney
UID:e.1277.3085
SEQUENCE:3
DTSTAMP:20260425T112825Z
URL:http://services.cherokeechamber.org/events/details/chick-fil-a-meals-on-wheels-emergency-food-drive-3085
END:VEVENT

END:VCALENDAR
