BEGIN:VCALENDAR
VERSION:2.0
PRODID:-//ChamberMaster//Event Calendar 2.0//EN
METHOD:PUBLISH
X-PUBLISHED-TTL:P3D
REFRESH-INTERVAL:P3D
CALSCALE:GREGORIAN
BEGIN:VEVENT
DTSTART;VALUE=DATE:20181108
DTEND;VALUE=DATE:20181112
TRANSP:TRANSPARENT
X-MICROSOFT-CDO-ALLDAYEVENT:TRUE
SUMMARY:Cherokee Historical and Preservation Society presents 'Til Beth Do Us Part
DESCRIPTION:CHAPS proudly presents a CHC Associates Casting and Services TM production
X-ALT-DESC;FMTTYPE=text/html:CHAPS proudly presents a CHC Associates Casting and Services TM production
LOCATION:
UID:e.1277.4508
SEQUENCE:3
DTSTAMP:20260424T235023Z
URL:http://services.cherokeechamber.org/events/details/cherokee-historical-and-preservation-society-presents-til-beth-do-us-part-4508
END:VEVENT

END:VCALENDAR
