BEGIN:VCALENDAR
VERSION:2.0
PRODID:-//ChamberMaster//Event Calendar 2.0//EN
METHOD:PUBLISH
X-PUBLISHED-TTL:P3D
REFRESH-INTERVAL:P3D
CALSCALE:GREGORIAN
BEGIN:VEVENT
DTSTART:20180911T220000Z
DTEND:20180912T003000Z
X-MICROSOFT-CDO-ALLDAYEVENT:FALSE
SUMMARY:Cherokee County Small Business Academy-Setting Your Business Up for Sucess
DESCRIPTION:Cherokee County Small Business Academy is a partnership of Spartanburg Community College\, Winthrop Small Business Development Center\, Cherokee County Chamber of Commerce and the Cherokee KNOW(2) Business Generator that was founded to help the community to develop\, grow and support the local market within  Cherokee County. This partnership provides small business owners\,  future and present\, the opportunity to attend a workshop series  focusing on Strengthening Your Business Foundations.
X-ALT-DESC;FMTTYPE=text/html:<strong>Cherokee County Small Business Academy</strong> is a partnership of Spartanburg Community College\, Winthrop Small Business Development Center\, Cherokee County Chamber of Commerce and the Cherokee KNOW(2) Business Generator that was founded to help the community to develop\, grow and support the local market within&nbsp\; Cherokee County. This partnership provides small business owners\,&nbsp\; future and present\, the opportunity to attend a workshop series&nbsp\; focusing on <strong><em>Strengthening Your Business Foundations.</em></strong>
LOCATION:Cherokee County Campus\, L. Hoke Parris Business Center\, Room 104
UID:e.1277.4344
SEQUENCE:3
DTSTAMP:20260425T024633Z
URL:http://services.cherokeechamber.org/events/details/cherokee-county-small-business-academy-setting-your-business-up-for-sucess-4344
END:VEVENT

END:VCALENDAR
