BEGIN:VCALENDAR
VERSION:2.0
PRODID:-//ChamberMaster//Event Calendar 2.0//EN
METHOD:PUBLISH
X-PUBLISHED-TTL:P3D
REFRESH-INTERVAL:P3D
CALSCALE:GREGORIAN
BEGIN:VEVENT
DTSTART:20181204T170000Z
DTEND:20181204T190000Z
X-MICROSOFT-CDO-ALLDAYEVENT:FALSE
SUMMARY:Cherokee County Public Library author Anthony J. Tata book signing
DESCRIPTION:Dark Winter\n\nAnthony J. Tata\, US Army Brigadier General (Ret.) \n\nNational Security Expert and Bestselling Author\n\n\n\nLight refreshments will be served.
X-ALT-DESC;FMTTYPE=text/html:Dark Winter<br />\nAnthony J. Tata\, US Army Brigadier General (Ret.)&nbsp\;<br />\nNational Security Expert and Bestselling Author<br />\n<br />\nLight refreshments will be served.&nbsp\;
LOCATION:
UID:e.1277.4529
SEQUENCE:3
DTSTAMP:20260424T223343Z
URL:http://services.cherokeechamber.org/events/details/cherokee-county-public-library-author-anthony-j-tata-book-signing-4529
END:VEVENT

END:VCALENDAR
