BEGIN:VCALENDAR
VERSION:2.0
PRODID:-//ChamberMaster//Event Calendar 2.0//EN
METHOD:PUBLISH
X-PUBLISHED-TTL:P3D
REFRESH-INTERVAL:P3D
CALSCALE:GREGORIAN
BEGIN:VEVENT
DTSTART:20190110T230000Z
DTEND:20190111T010000Z
X-MICROSOFT-CDO-ALLDAYEVENT:FALSE
SUMMARY:Cherokee County Legistlative Delegation w/Sen. Harvey Peeler
DESCRIPTION:Sen. Harvey Peeler will meet along with Cherokee County Legislative Delegation will receive information from the DOT on the I-85 construction project.
X-ALT-DESC;FMTTYPE=text/html:Sen. Harvey Peeler will meet along with Cherokee County Legislative Delegation will receive information from the DOT on the I-85 construction project.
LOCATION:Room 209 of the Hoke Parris Bldg on SCC Cherokee Campus 101 Campus Dr. Gaffney\, SC
UID:e.1277.4536
SEQUENCE:3
DTSTAMP:20260424T210659Z
URL:http://services.cherokeechamber.org/events/details/cherokee-county-legistlative-delegation-w-sen-harvey-peeler-4536
END:VEVENT

END:VCALENDAR
