BEGIN:VCALENDAR
VERSION:2.0
PRODID:-//ChamberMaster//Event Calendar 2.0//EN
METHOD:PUBLISH
X-PUBLISHED-TTL:P3D
REFRESH-INTERVAL:P3D
CALSCALE:GREGORIAN
BEGIN:VEVENT
DTSTART:20170928T200000Z
DTEND:20170928T230000Z
X-MICROSOFT-CDO-ALLDAYEVENT:FALSE
SUMMARY:Cherokee County Community Job Fair
DESCRIPTION:Job Fair!
X-ALT-DESC;FMTTYPE=text/html:Job Fair!
LOCATION:Broad River Electric Cooperative \, 811 Hamrick Street\, Gaffney SC
UID:e.1277.3040
SEQUENCE:3
DTSTAMP:20260425T185132Z
URL:http://services.cherokeechamber.org/events/details/cherokee-county-community-job-fair-3040
END:VEVENT

END:VCALENDAR
