BEGIN:VCALENDAR
VERSION:2.0
PRODID:-//ChamberMaster//Event Calendar 2.0//EN
METHOD:PUBLISH
X-PUBLISHED-TTL:P3D
REFRESH-INTERVAL:P3D
CALSCALE:GREGORIAN
BEGIN:VEVENT
DTSTART:20171017T220000Z
DTEND:20171017T230000Z
X-MICROSOFT-CDO-ALLDAYEVENT:FALSE
SUMMARY:Cherokee County Charter School Information Meeting
DESCRIPTION:Cherokee County Charter School Information Meeting\n\n A Challenge Foundation Academy
X-ALT-DESC;FMTTYPE=text/html:Cherokee County Charter School Information Meeting<br />\n&#8203\;A Challenge Foundation Academy
LOCATION:Spartanburg Community College Gaffney Campus L. Hoke Parris Building\, Room 209
UID:e.1277.3050
SEQUENCE:3
DTSTAMP:20260425T173144Z
URL:http://services.cherokeechamber.org/events/details/cherokee-county-charter-school-information-meeting-3050
END:VEVENT

END:VCALENDAR
