BEGIN:VCALENDAR
VERSION:2.0
PRODID:-//ChamberMaster//Event Calendar 2.0//EN
METHOD:PUBLISH
X-PUBLISHED-TTL:P3D
REFRESH-INTERVAL:P3D
CALSCALE:GREGORIAN
BEGIN:VEVENT
DTSTART;VALUE=DATE:20181010
DTEND;VALUE=DATE:20181013
TRANSP:TRANSPARENT
X-MICROSOFT-CDO-ALLDAYEVENT:TRUE
SUMMARY:Cherokee County Chamber Retreat = RESCHEDULED
DESCRIPTION:
X-ALT-DESC;FMTTYPE=text/html:
LOCATION:
UID:e.1277.4489
SEQUENCE:3
DTSTAMP:20260425T011138Z
URL:http://services.cherokeechamber.org/events/details/cherokee-county-chamber-retreat-rescheduled-4489
END:VEVENT

END:VCALENDAR
