BEGIN:VCALENDAR
VERSION:2.0
PRODID:-//ChamberMaster//Event Calendar 2.0//EN
METHOD:PUBLISH
X-PUBLISHED-TTL:P3D
REFRESH-INTERVAL:P3D
CALSCALE:GREGORIAN
BEGIN:VEVENT
DTSTART:20180209T233000Z
DTEND:20180210T010000Z
X-MICROSOFT-CDO-ALLDAYEVENT:FALSE
SUMMARY:CHAPS Valientine's Dinner and Dance
DESCRIPTION:CHAPS Valentine's Dinner and Dance
X-ALT-DESC;FMTTYPE=text/html:CHAPS Valentine&#39\;s Dinner and Dance
LOCATION:Cherokee Historical and Preservation Museum 301 College Dr.
UID:e.1277.3072
SEQUENCE:3
DTSTAMP:20260425T123652Z
URL:http://services.cherokeechamber.org/events/details/chaps-valientine-s-dinner-and-dance-3072
END:VEVENT

END:VCALENDAR
