BEGIN:VCALENDAR
VERSION:2.0
PRODID:-//ChamberMaster//Event Calendar 2.0//EN
METHOD:PUBLISH
X-PUBLISHED-TTL:P3D
REFRESH-INTERVAL:P3D
CALSCALE:GREGORIAN
BEGIN:VEVENT
DTSTART:20170504T214500Z
DTEND:20170507T013000Z
X-MICROSOFT-CDO-ALLDAYEVENT:FALSE
SUMMARY:CHAPS presents a Dinner & Theatre Show .. Always..Patsy Cline
DESCRIPTION:Dinner & Theatre\n\n Always....Patsy Cline
X-ALT-DESC;FMTTYPE=text/html:Dinner &amp\; Theatre<br />\n&#8203\;Always....Patsy Cline
LOCATION:The Cherokee County History and Arts Museum 301 College Drive Gaffney SC 29340
UID:e.1277.3020
SEQUENCE:3
DTSTAMP:20260426T000307Z
URL:http://services.cherokeechamber.org/events/details/chaps-presents-a-dinner-theatre-show-always-patsy-cline-3020
END:VEVENT

END:VCALENDAR
