BEGIN:VCALENDAR
VERSION:2.0
PRODID:-//ChamberMaster//Event Calendar 2.0//EN
METHOD:PUBLISH
X-PUBLISHED-TTL:P3D
REFRESH-INTERVAL:P3D
CALSCALE:GREGORIAN
BEGIN:VEVENT
DTSTART:20180121T200000Z
DTEND:20180121T220000Z
X-MICROSOFT-CDO-ALLDAYEVENT:FALSE
SUMMARY:CAVA Reception & Gallery Talk
DESCRIPTION:8 Southern African-American Artists: Past\, Present\, Future
X-ALT-DESC;FMTTYPE=text/html:8 Southern African-American Artists: Past\, Present\, Future
LOCATION:Gaffney Visitors Center & Art Gallery 210 W. Frederick Street Gaffney
UID:e.1277.3065
SEQUENCE:3
DTSTAMP:20260425T140332Z
URL:http://services.cherokeechamber.org/events/details/cava-reception-gallery-talk-3065
END:VEVENT

END:VCALENDAR
